BEGIN:VCALENDAR
VERSION:2.0
PRODID:-//Squarespace Inc/Squarespace 6//v6//EN
BEGIN:VEVENT
UID:52e35682e4b0b4b042ea6438@squarespace.com
DTSTAMP:20140125T061944Z
DTSTART:20140424T140000Z
DTEND:20140424T220000Z
SUMMARY:32 Awesomely Practical UX Tips (Rosenfeld Media Virtual Event)
GEO:33.433273;-86.72247
LOCATION:Online
END:VEVENT
END:VCALENDAR
