BEGIN:VCALENDAR
VERSION:2.0
PRODID:-//Squarespace Inc/Squarespace 6//v6//EN
BEGIN:VEVENT
UID:57bb84ef5016e15a59382f71@squarespace.com
DTSTAMP:20160822T231343Z
DTSTART:20161011T170000Z
DTEND:20161012T000000Z
SUMMARY:User Research for Everyone (a Virtual Conference from Rosenfeld Med
 ia
END:VEVENT
END:VCALENDAR
