BEGIN:VCALENDAR
VERSION:2.0
PRODID:-//Squarespace Inc/Squarespace 6//v6//EN
BEGIN:VEVENT
UID:57baba8b9f7456e36f3391a3@squarespace.com
DTSTAMP:20160822T085247Z
DTSTART:20160914T160000Z
DTEND:20160917T010000Z
SUMMARY:UX STRAT
GEO:41.823989;-71.412834
LOCATION:Providence\, RI\, United States
END:VEVENT
END:VCALENDAR
